BEGIN:VCALENDAR
VERSION:2.0
PRODID:-//Exportafacil - ECPv4.0.5//NONSGML v1.0//EN
CALSCALE:GREGORIAN
METHOD:PUBLISH
X-WR-CALNAME:Exportafacil
X-ORIGINAL-URL:http://www.iirsa.org/exportafacil
X-WR-CALDESC:Events for Exportafacil
BEGIN:VEVENT
DTSTART;VALUE=DATE:20090520
DTEND;VALUE=DATE:20090520
DTSTAMP:20260425T031738
CREATED:20160204
LAST-MODIFIED:20160522
UID:9043-1242777600-1242863999@www.iirsa.org
SUMMARY:Taller sobre el Proyecto “Exportación por Envíos Postales para PYMES
DESCRIPTION:El día 20 de mayo se realizó el Taller sobre el Proyecto “Exportación por Envíos Postales para PYMES”. La actividad tuvo lugar en el Auditorio Raúl Prebisch del BID-INTAL\, Buenos Aires\, Argentina.\n\nEste proyecto es uno de los 31 proyectos estratégicos de la Agenda de Implementación Consensuada de la Iniciativa IIRSA. El propósito del mismo consiste en extender y adaptar la experiencia exitosa del “Sistema de Exportaciones por Remesas Postales” implementado por el Gobierno brasileño\, y puesto a disposición de los operadores postales que ofrecen servicios de logística para exportaciones. El objetivo final del proyecto es ampliar la capacidad competitiva de las MIPYMES gracias al incremento de sus exportaciones y permitir la diversificación de los destinos y la pauta de productos exportados.\n\nLos dos principales objetivos del taller consistieron en: i) presentar el estado de avance del proyecto IIRSA\, así como estudios vinculados desarrolladas en el marco de la Iniciativa; y ii) presentar servicios complementarios que refuercen los objetivos del proyecto IIRSA.\n\nEntre los participantes del taller se contaron los Coordinadores Nacionales de IIRSA\, miembros del grupo de trabajo regional del proyecto IIRSA “Exportaciones por Envíos Postales para MIPYMES”\, y otros actores relacionados con el desarrollo del sector postal\, el comercio electrónico y la promoción de las micro\, pequeñas y medianas empresas en la región.\nDOCUMENTOS\n\n\t\nAgenda (ESP) (ENG)\n\n\t\nLista de participantes (ESP)\n\n\t\nPresentación del estado de situación del Proyecto (ESP)\n\n\t\nPlataformas de e-commerce (ESP)\n\n\t\nImportancia de la comunicación exportador-importador (ESP)\n\n\t\nProyecto “RedeAgentes” (ESP)\n\n\t\nLecciones aprendidas de la implementación en Uruguay (ESP)\n\n\t\nBeneficios potenciales de la implementación de Exporta Fácil (ESP)\n\n\t\nDesarrollos complementarios de servicios para el exportador (ESP)\n\n\t\nUniversidad del Exportador (ESP)\n\n
URL:http://www.iirsa.org/exportafacil/evento/taller-sobre-el-proyecto-exportacion-por-envios-postales-para-pymes/?lang=pt-br/
LOCATION:Esmeralda 130\, CABA\, C1035ABD \, Argentina
CATEGORIES:Destacados
END:VEVENT
END:VCALENDAR